BEGIN:VCALENDAR
VERSION:2.0
PRODID:-//Hartford Township - ECPv6.15.18//NONSGML v1.0//EN
CALSCALE:GREGORIAN
METHOD:PUBLISH
X-ORIGINAL-URL:https://hartfordtownship.org
X-WR-CALDESC:Events for Hartford Township
REFRESH-INTERVAL;VALUE=DURATION:PT1H
X-Robots-Tag:noindex
X-PUBLISHED-TTL:PT1H
BEGIN:VTIMEZONE
TZID:UTC
BEGIN:STANDARD
TZOFFSETFROM:+0000
TZOFFSETTO:+0000
TZNAME:UTC
DTSTART:20250101T000000
END:STANDARD
END:VTIMEZONE
BEGIN:VEVENT
DTSTART;TZID=UTC:20260505T130000
DTEND;TZID=UTC:20260505T170000
DTSTAMP:20260421T140613
CREATED:20260416T190333Z
LAST-MODIFIED:20260416T190333Z
UID:10000065-1777986000-1778000400@hartfordtownship.org
SUMMARY:Van Buren County Conservation District Electronics Collection
DESCRIPTION:The Van Buren Conservation District’s Resource Recovery program is hosting electronics recycling drop-off opportunities this May. Bring your old electronics to any of the following events: \nOne Day Event: Porter Township Hall — May 5\, 1:00 PM–5:00 PM \nDrop-Off Days: Decatur Area Waste & Recycling Center\, 300 W Beers Street\, Decatur \n\nMay 9 & 16 | 10:00 AM – 2:00 PM\nMay 12 | 10:00 AM – 1:00 PM\n\nDon’t let old electronics collect dust — responsibly recycle them at a convenient location near you!
URL:https://hartfordtownship.org/event/van-buren-county-conservation-district-electronics-collection/
LOCATION:Porter Township\, 88040 M-40 Hwy\, Lawton\, MI\, 49065\, United States
ATTACH;FMTTYPE=image/jpeg:https://hartfordtownship.org/wp-content/uploads/2026/04/Electronics-Recycling.jpg
END:VEVENT
END:VCALENDAR