BEGIN:VCALENDAR
VERSION:2.0
PRODID:-//Hartford Township - ECPv6.15.18//NONSGML v1.0//EN
CALSCALE:GREGORIAN
METHOD:PUBLISH
X-WR-CALNAME:Hartford Township
X-ORIGINAL-URL:https://hartfordtownship.org
X-WR-CALDESC:Events for Hartford Township
REFRESH-INTERVAL;VALUE=DURATION:PT1H
X-Robots-Tag:noindex
X-PUBLISHED-TTL:PT1H
BEGIN:VTIMEZONE
TZID:UTC
BEGIN:STANDARD
TZOFFSETFROM:+0000
TZOFFSETTO:+0000
TZNAME:UTC
DTSTART:20250101T000000
END:STANDARD
END:VTIMEZONE
BEGIN:VEVENT
DTSTART;TZID=UTC:20260511T120000
DTEND;TZID=UTC:20260511T130000
DTSTAMP:20260421T142506
CREATED:20260402T183159Z
LAST-MODIFIED:20260402T185616Z
UID:10000006-1778500800-1778504400@hartfordtownship.org
SUMMARY:Senior Citizen Luncheons
DESCRIPTION:Join us for a friendly gathering and delicious lunch every 2nd Monday of the month at Hartford Bible Church. The luncheon begins at NOON. Enjoy fellowship\, good food\, and community!
URL:https://hartfordtownship.org/event/senior-citizen-luncheons/2026-05-11/
LOCATION:Hartford Bible Church\, 65418 Red Arrow Hwy\, Hartford\, MI\, 49057
ATTACH;FMTTYPE=image/png:https://hartfordtownship.org/wp-content/uploads/2026/04/Senior-Citizens-Luncheon.png
END:VEVENT
BEGIN:VEVENT
DTSTART;TZID=UTC:20260608T120000
DTEND;TZID=UTC:20260608T130000
DTSTAMP:20260421T142506
CREATED:20260402T183159Z
LAST-MODIFIED:20260402T185616Z
UID:10000007-1780920000-1780923600@hartfordtownship.org
SUMMARY:Senior Citizen Luncheons
DESCRIPTION:Join us for a friendly gathering and delicious lunch every 2nd Monday of the month at Hartford Bible Church. The luncheon begins at NOON. Enjoy fellowship\, good food\, and community!
URL:https://hartfordtownship.org/event/senior-citizen-luncheons/2026-06-08/
LOCATION:Hartford Bible Church\, 65418 Red Arrow Hwy\, Hartford\, MI\, 49057
ATTACH;FMTTYPE=image/png:https://hartfordtownship.org/wp-content/uploads/2026/04/Senior-Citizens-Luncheon.png
END:VEVENT
BEGIN:VEVENT
DTSTART;TZID=UTC:20260713T120000
DTEND;TZID=UTC:20260713T130000
DTSTAMP:20260421T142506
CREATED:20260402T183159Z
LAST-MODIFIED:20260402T185616Z
UID:10000008-1783944000-1783947600@hartfordtownship.org
SUMMARY:Senior Citizen Luncheons
DESCRIPTION:Join us for a friendly gathering and delicious lunch every 2nd Monday of the month at Hartford Bible Church. The luncheon begins at NOON. Enjoy fellowship\, good food\, and community!
URL:https://hartfordtownship.org/event/senior-citizen-luncheons/2026-07-13/
LOCATION:Hartford Bible Church\, 65418 Red Arrow Hwy\, Hartford\, MI\, 49057
ATTACH;FMTTYPE=image/png:https://hartfordtownship.org/wp-content/uploads/2026/04/Senior-Citizens-Luncheon.png
END:VEVENT
BEGIN:VEVENT
DTSTART;TZID=UTC:20260810T120000
DTEND;TZID=UTC:20260810T130000
DTSTAMP:20260421T142506
CREATED:20260402T183159Z
LAST-MODIFIED:20260402T185616Z
UID:10000009-1786363200-1786366800@hartfordtownship.org
SUMMARY:Senior Citizen Luncheons
DESCRIPTION:Join us for a friendly gathering and delicious lunch every 2nd Monday of the month at Hartford Bible Church. The luncheon begins at NOON. Enjoy fellowship\, good food\, and community!
URL:https://hartfordtownship.org/event/senior-citizen-luncheons/2026-08-10/
LOCATION:Hartford Bible Church\, 65418 Red Arrow Hwy\, Hartford\, MI\, 49057
ATTACH;FMTTYPE=image/png:https://hartfordtownship.org/wp-content/uploads/2026/04/Senior-Citizens-Luncheon.png
END:VEVENT
BEGIN:VEVENT
DTSTART;TZID=UTC:20260914T120000
DTEND;TZID=UTC:20260914T130000
DTSTAMP:20260421T142506
CREATED:20260402T183159Z
LAST-MODIFIED:20260402T185616Z
UID:10000010-1789387200-1789390800@hartfordtownship.org
SUMMARY:Senior Citizen Luncheons
DESCRIPTION:Join us for a friendly gathering and delicious lunch every 2nd Monday of the month at Hartford Bible Church. The luncheon begins at NOON. Enjoy fellowship\, good food\, and community!
URL:https://hartfordtownship.org/event/senior-citizen-luncheons/2026-09-14/
LOCATION:Hartford Bible Church\, 65418 Red Arrow Hwy\, Hartford\, MI\, 49057
ATTACH;FMTTYPE=image/png:https://hartfordtownship.org/wp-content/uploads/2026/04/Senior-Citizens-Luncheon.png
END:VEVENT
BEGIN:VEVENT
DTSTART;TZID=UTC:20261012T120000
DTEND;TZID=UTC:20261012T130000
DTSTAMP:20260421T142506
CREATED:20260402T183159Z
LAST-MODIFIED:20260402T185616Z
UID:10000011-1791806400-1791810000@hartfordtownship.org
SUMMARY:Senior Citizen Luncheons
DESCRIPTION:Join us for a friendly gathering and delicious lunch every 2nd Monday of the month at Hartford Bible Church. The luncheon begins at NOON. Enjoy fellowship\, good food\, and community!
URL:https://hartfordtownship.org/event/senior-citizen-luncheons/2026-10-12/
LOCATION:Hartford Bible Church\, 65418 Red Arrow Hwy\, Hartford\, MI\, 49057
ATTACH;FMTTYPE=image/png:https://hartfordtownship.org/wp-content/uploads/2026/04/Senior-Citizens-Luncheon.png
END:VEVENT
BEGIN:VEVENT
DTSTART;TZID=UTC:20261109T120000
DTEND;TZID=UTC:20261109T130000
DTSTAMP:20260421T142506
CREATED:20260402T183159Z
LAST-MODIFIED:20260402T185616Z
UID:10000012-1794225600-1794229200@hartfordtownship.org
SUMMARY:Senior Citizen Luncheons
DESCRIPTION:Join us for a friendly gathering and delicious lunch every 2nd Monday of the month at Hartford Bible Church. The luncheon begins at NOON. Enjoy fellowship\, good food\, and community!
URL:https://hartfordtownship.org/event/senior-citizen-luncheons/2026-11-09/
LOCATION:Hartford Bible Church\, 65418 Red Arrow Hwy\, Hartford\, MI\, 49057
ATTACH;FMTTYPE=image/png:https://hartfordtownship.org/wp-content/uploads/2026/04/Senior-Citizens-Luncheon.png
END:VEVENT
BEGIN:VEVENT
DTSTART;TZID=UTC:20261214T120000
DTEND;TZID=UTC:20261214T130000
DTSTAMP:20260421T142506
CREATED:20260402T183159Z
LAST-MODIFIED:20260402T185616Z
UID:10000013-1797249600-1797253200@hartfordtownship.org
SUMMARY:Senior Citizen Luncheons
DESCRIPTION:Join us for a friendly gathering and delicious lunch every 2nd Monday of the month at Hartford Bible Church. The luncheon begins at NOON. Enjoy fellowship\, good food\, and community!
URL:https://hartfordtownship.org/event/senior-citizen-luncheons/2026-12-14/
LOCATION:Hartford Bible Church\, 65418 Red Arrow Hwy\, Hartford\, MI\, 49057
ATTACH;FMTTYPE=image/png:https://hartfordtownship.org/wp-content/uploads/2026/04/Senior-Citizens-Luncheon.png
END:VEVENT
BEGIN:VEVENT
DTSTART;TZID=UTC:20270111T120000
DTEND;TZID=UTC:20270111T130000
DTSTAMP:20260421T142506
CREATED:20260402T183159Z
LAST-MODIFIED:20260402T185616Z
UID:10000014-1799668800-1799672400@hartfordtownship.org
SUMMARY:Senior Citizen Luncheons
DESCRIPTION:Join us for a friendly gathering and delicious lunch every 2nd Monday of the month at Hartford Bible Church. The luncheon begins at NOON. Enjoy fellowship\, good food\, and community!
URL:https://hartfordtownship.org/event/senior-citizen-luncheons/2027-01-11/
LOCATION:Hartford Bible Church\, 65418 Red Arrow Hwy\, Hartford\, MI\, 49057
ATTACH;FMTTYPE=image/png:https://hartfordtownship.org/wp-content/uploads/2026/04/Senior-Citizens-Luncheon.png
END:VEVENT
BEGIN:VEVENT
DTSTART;TZID=UTC:20270208T120000
DTEND;TZID=UTC:20270208T130000
DTSTAMP:20260421T142506
CREATED:20260402T183159Z
LAST-MODIFIED:20260402T185616Z
UID:10000015-1802088000-1802091600@hartfordtownship.org
SUMMARY:Senior Citizen Luncheons
DESCRIPTION:Join us for a friendly gathering and delicious lunch every 2nd Monday of the month at Hartford Bible Church. The luncheon begins at NOON. Enjoy fellowship\, good food\, and community!
URL:https://hartfordtownship.org/event/senior-citizen-luncheons/2027-02-08/
LOCATION:Hartford Bible Church\, 65418 Red Arrow Hwy\, Hartford\, MI\, 49057
ATTACH;FMTTYPE=image/png:https://hartfordtownship.org/wp-content/uploads/2026/04/Senior-Citizens-Luncheon.png
END:VEVENT
BEGIN:VEVENT
DTSTART;TZID=UTC:20270308T120000
DTEND;TZID=UTC:20270308T130000
DTSTAMP:20260421T142506
CREATED:20260402T183159Z
LAST-MODIFIED:20260402T185616Z
UID:10000016-1804507200-1804510800@hartfordtownship.org
SUMMARY:Senior Citizen Luncheons
DESCRIPTION:Join us for a friendly gathering and delicious lunch every 2nd Monday of the month at Hartford Bible Church. The luncheon begins at NOON. Enjoy fellowship\, good food\, and community!
URL:https://hartfordtownship.org/event/senior-citizen-luncheons/2027-03-08/
LOCATION:Hartford Bible Church\, 65418 Red Arrow Hwy\, Hartford\, MI\, 49057
ATTACH;FMTTYPE=image/png:https://hartfordtownship.org/wp-content/uploads/2026/04/Senior-Citizens-Luncheon.png
END:VEVENT
BEGIN:VEVENT
DTSTART;TZID=UTC:20270412T120000
DTEND;TZID=UTC:20270412T130000
DTSTAMP:20260421T142506
CREATED:20260402T183159Z
LAST-MODIFIED:20260402T185616Z
UID:10000017-1807531200-1807534800@hartfordtownship.org
SUMMARY:Senior Citizen Luncheons
DESCRIPTION:Join us for a friendly gathering and delicious lunch every 2nd Monday of the month at Hartford Bible Church. The luncheon begins at NOON. Enjoy fellowship\, good food\, and community!
URL:https://hartfordtownship.org/event/senior-citizen-luncheons/2027-04-12/
LOCATION:Hartford Bible Church\, 65418 Red Arrow Hwy\, Hartford\, MI\, 49057
ATTACH;FMTTYPE=image/png:https://hartfordtownship.org/wp-content/uploads/2026/04/Senior-Citizens-Luncheon.png
END:VEVENT
BEGIN:VEVENT
DTSTART;TZID=UTC:20270510T120000
DTEND;TZID=UTC:20270510T130000
DTSTAMP:20260421T142506
CREATED:20260402T183159Z
LAST-MODIFIED:20260402T185616Z
UID:10000018-1809950400-1809954000@hartfordtownship.org
SUMMARY:Senior Citizen Luncheons
DESCRIPTION:Join us for a friendly gathering and delicious lunch every 2nd Monday of the month at Hartford Bible Church. The luncheon begins at NOON. Enjoy fellowship\, good food\, and community!
URL:https://hartfordtownship.org/event/senior-citizen-luncheons/2027-05-10/
LOCATION:Hartford Bible Church\, 65418 Red Arrow Hwy\, Hartford\, MI\, 49057
ATTACH;FMTTYPE=image/png:https://hartfordtownship.org/wp-content/uploads/2026/04/Senior-Citizens-Luncheon.png
END:VEVENT
BEGIN:VEVENT
DTSTART;TZID=UTC:20270614T120000
DTEND;TZID=UTC:20270614T130000
DTSTAMP:20260421T142506
CREATED:20260402T183159Z
LAST-MODIFIED:20260402T185616Z
UID:10000019-1812974400-1812978000@hartfordtownship.org
SUMMARY:Senior Citizen Luncheons
DESCRIPTION:Join us for a friendly gathering and delicious lunch every 2nd Monday of the month at Hartford Bible Church. The luncheon begins at NOON. Enjoy fellowship\, good food\, and community!
URL:https://hartfordtownship.org/event/senior-citizen-luncheons/2027-06-14/
LOCATION:Hartford Bible Church\, 65418 Red Arrow Hwy\, Hartford\, MI\, 49057
ATTACH;FMTTYPE=image/png:https://hartfordtownship.org/wp-content/uploads/2026/04/Senior-Citizens-Luncheon.png
END:VEVENT
BEGIN:VEVENT
DTSTART;TZID=UTC:20270712T120000
DTEND;TZID=UTC:20270712T130000
DTSTAMP:20260421T142506
CREATED:20260402T183159Z
LAST-MODIFIED:20260402T185616Z
UID:10000020-1815393600-1815397200@hartfordtownship.org
SUMMARY:Senior Citizen Luncheons
DESCRIPTION:Join us for a friendly gathering and delicious lunch every 2nd Monday of the month at Hartford Bible Church. The luncheon begins at NOON. Enjoy fellowship\, good food\, and community!
URL:https://hartfordtownship.org/event/senior-citizen-luncheons/2027-07-12/
LOCATION:Hartford Bible Church\, 65418 Red Arrow Hwy\, Hartford\, MI\, 49057
ATTACH;FMTTYPE=image/png:https://hartfordtownship.org/wp-content/uploads/2026/04/Senior-Citizens-Luncheon.png
END:VEVENT
BEGIN:VEVENT
DTSTART;TZID=UTC:20270809T120000
DTEND;TZID=UTC:20270809T130000
DTSTAMP:20260421T142506
CREATED:20260402T183159Z
LAST-MODIFIED:20260402T185616Z
UID:10000021-1817812800-1817816400@hartfordtownship.org
SUMMARY:Senior Citizen Luncheons
DESCRIPTION:Join us for a friendly gathering and delicious lunch every 2nd Monday of the month at Hartford Bible Church. The luncheon begins at NOON. Enjoy fellowship\, good food\, and community!
URL:https://hartfordtownship.org/event/senior-citizen-luncheons/2027-08-09/
LOCATION:Hartford Bible Church\, 65418 Red Arrow Hwy\, Hartford\, MI\, 49057
ATTACH;FMTTYPE=image/png:https://hartfordtownship.org/wp-content/uploads/2026/04/Senior-Citizens-Luncheon.png
END:VEVENT
BEGIN:VEVENT
DTSTART;TZID=UTC:20270913T120000
DTEND;TZID=UTC:20270913T130000
DTSTAMP:20260421T142506
CREATED:20260402T183159Z
LAST-MODIFIED:20260402T185616Z
UID:10000022-1820836800-1820840400@hartfordtownship.org
SUMMARY:Senior Citizen Luncheons
DESCRIPTION:Join us for a friendly gathering and delicious lunch every 2nd Monday of the month at Hartford Bible Church. The luncheon begins at NOON. Enjoy fellowship\, good food\, and community!
URL:https://hartfordtownship.org/event/senior-citizen-luncheons/2027-09-13/
LOCATION:Hartford Bible Church\, 65418 Red Arrow Hwy\, Hartford\, MI\, 49057
ATTACH;FMTTYPE=image/png:https://hartfordtownship.org/wp-content/uploads/2026/04/Senior-Citizens-Luncheon.png
END:VEVENT
BEGIN:VEVENT
DTSTART;TZID=UTC:20271011T120000
DTEND;TZID=UTC:20271011T130000
DTSTAMP:20260421T142506
CREATED:20260402T183159Z
LAST-MODIFIED:20260402T185616Z
UID:10000023-1823256000-1823259600@hartfordtownship.org
SUMMARY:Senior Citizen Luncheons
DESCRIPTION:Join us for a friendly gathering and delicious lunch every 2nd Monday of the month at Hartford Bible Church. The luncheon begins at NOON. Enjoy fellowship\, good food\, and community!
URL:https://hartfordtownship.org/event/senior-citizen-luncheons/2027-10-11/
LOCATION:Hartford Bible Church\, 65418 Red Arrow Hwy\, Hartford\, MI\, 49057
ATTACH;FMTTYPE=image/png:https://hartfordtownship.org/wp-content/uploads/2026/04/Senior-Citizens-Luncheon.png
END:VEVENT
BEGIN:VEVENT
DTSTART;TZID=UTC:20271108T120000
DTEND;TZID=UTC:20271108T130000
DTSTAMP:20260421T142506
CREATED:20260402T183159Z
LAST-MODIFIED:20260402T185616Z
UID:10000024-1825675200-1825678800@hartfordtownship.org
SUMMARY:Senior Citizen Luncheons
DESCRIPTION:Join us for a friendly gathering and delicious lunch every 2nd Monday of the month at Hartford Bible Church. The luncheon begins at NOON. Enjoy fellowship\, good food\, and community!
URL:https://hartfordtownship.org/event/senior-citizen-luncheons/2027-11-08/
LOCATION:Hartford Bible Church\, 65418 Red Arrow Hwy\, Hartford\, MI\, 49057
ATTACH;FMTTYPE=image/png:https://hartfordtownship.org/wp-content/uploads/2026/04/Senior-Citizens-Luncheon.png
END:VEVENT
BEGIN:VEVENT
DTSTART;TZID=UTC:20271213T120000
DTEND;TZID=UTC:20271213T130000
DTSTAMP:20260421T142506
CREATED:20260402T183159Z
LAST-MODIFIED:20260402T185616Z
UID:10000025-1828699200-1828702800@hartfordtownship.org
SUMMARY:Senior Citizen Luncheons
DESCRIPTION:Join us for a friendly gathering and delicious lunch every 2nd Monday of the month at Hartford Bible Church. The luncheon begins at NOON. Enjoy fellowship\, good food\, and community!
URL:https://hartfordtownship.org/event/senior-citizen-luncheons/2027-12-13/
LOCATION:Hartford Bible Church\, 65418 Red Arrow Hwy\, Hartford\, MI\, 49057
ATTACH;FMTTYPE=image/png:https://hartfordtownship.org/wp-content/uploads/2026/04/Senior-Citizens-Luncheon.png
END:VEVENT
BEGIN:VEVENT
DTSTART;TZID=UTC:20280110T120000
DTEND;TZID=UTC:20280110T130000
DTSTAMP:20260421T142506
CREATED:20260402T183159Z
LAST-MODIFIED:20260402T185616Z
UID:10000026-1831118400-1831122000@hartfordtownship.org
SUMMARY:Senior Citizen Luncheons
DESCRIPTION:Join us for a friendly gathering and delicious lunch every 2nd Monday of the month at Hartford Bible Church. The luncheon begins at NOON. Enjoy fellowship\, good food\, and community!
URL:https://hartfordtownship.org/event/senior-citizen-luncheons/2028-01-10/
LOCATION:Hartford Bible Church\, 65418 Red Arrow Hwy\, Hartford\, MI\, 49057
ATTACH;FMTTYPE=image/png:https://hartfordtownship.org/wp-content/uploads/2026/04/Senior-Citizens-Luncheon.png
END:VEVENT
BEGIN:VEVENT
DTSTART;TZID=UTC:20280214T120000
DTEND;TZID=UTC:20280214T130000
DTSTAMP:20260421T142506
CREATED:20260402T183159Z
LAST-MODIFIED:20260402T185616Z
UID:10000027-1834142400-1834146000@hartfordtownship.org
SUMMARY:Senior Citizen Luncheons
DESCRIPTION:Join us for a friendly gathering and delicious lunch every 2nd Monday of the month at Hartford Bible Church. The luncheon begins at NOON. Enjoy fellowship\, good food\, and community!
URL:https://hartfordtownship.org/event/senior-citizen-luncheons/2028-02-14/
LOCATION:Hartford Bible Church\, 65418 Red Arrow Hwy\, Hartford\, MI\, 49057
ATTACH;FMTTYPE=image/png:https://hartfordtownship.org/wp-content/uploads/2026/04/Senior-Citizens-Luncheon.png
END:VEVENT
BEGIN:VEVENT
DTSTART;TZID=UTC:20280313T120000
DTEND;TZID=UTC:20280313T130000
DTSTAMP:20260421T142506
CREATED:20260402T183159Z
LAST-MODIFIED:20260402T185616Z
UID:10000028-1836561600-1836565200@hartfordtownship.org
SUMMARY:Senior Citizen Luncheons
DESCRIPTION:Join us for a friendly gathering and delicious lunch every 2nd Monday of the month at Hartford Bible Church. The luncheon begins at NOON. Enjoy fellowship\, good food\, and community!
URL:https://hartfordtownship.org/event/senior-citizen-luncheons/2028-03-13/
LOCATION:Hartford Bible Church\, 65418 Red Arrow Hwy\, Hartford\, MI\, 49057
ATTACH;FMTTYPE=image/png:https://hartfordtownship.org/wp-content/uploads/2026/04/Senior-Citizens-Luncheon.png
END:VEVENT
BEGIN:VEVENT
DTSTART;TZID=UTC:20280410T120000
DTEND;TZID=UTC:20280410T130000
DTSTAMP:20260421T142506
CREATED:20260402T183159Z
LAST-MODIFIED:20260402T185616Z
UID:10000029-1838980800-1838984400@hartfordtownship.org
SUMMARY:Senior Citizen Luncheons
DESCRIPTION:Join us for a friendly gathering and delicious lunch every 2nd Monday of the month at Hartford Bible Church. The luncheon begins at NOON. Enjoy fellowship\, good food\, and community!
URL:https://hartfordtownship.org/event/senior-citizen-luncheons/2028-04-10/
LOCATION:Hartford Bible Church\, 65418 Red Arrow Hwy\, Hartford\, MI\, 49057
ATTACH;FMTTYPE=image/png:https://hartfordtownship.org/wp-content/uploads/2026/04/Senior-Citizens-Luncheon.png
END:VEVENT
BEGIN:VEVENT
DTSTART;TZID=UTC:20280508T120000
DTEND;TZID=UTC:20280508T130000
DTSTAMP:20260421T142506
CREATED:20260402T183159Z
LAST-MODIFIED:20260402T185616Z
UID:10000030-1841400000-1841403600@hartfordtownship.org
SUMMARY:Senior Citizen Luncheons
DESCRIPTION:Join us for a friendly gathering and delicious lunch every 2nd Monday of the month at Hartford Bible Church. The luncheon begins at NOON. Enjoy fellowship\, good food\, and community!
URL:https://hartfordtownship.org/event/senior-citizen-luncheons/2028-05-08/
LOCATION:Hartford Bible Church\, 65418 Red Arrow Hwy\, Hartford\, MI\, 49057
ATTACH;FMTTYPE=image/png:https://hartfordtownship.org/wp-content/uploads/2026/04/Senior-Citizens-Luncheon.png
END:VEVENT
BEGIN:VEVENT
DTSTART;TZID=UTC:20280612T120000
DTEND;TZID=UTC:20280612T130000
DTSTAMP:20260421T142506
CREATED:20260402T183159Z
LAST-MODIFIED:20260402T185616Z
UID:10000031-1844424000-1844427600@hartfordtownship.org
SUMMARY:Senior Citizen Luncheons
DESCRIPTION:Join us for a friendly gathering and delicious lunch every 2nd Monday of the month at Hartford Bible Church. The luncheon begins at NOON. Enjoy fellowship\, good food\, and community!
URL:https://hartfordtownship.org/event/senior-citizen-luncheons/2028-06-12/
LOCATION:Hartford Bible Church\, 65418 Red Arrow Hwy\, Hartford\, MI\, 49057
ATTACH;FMTTYPE=image/png:https://hartfordtownship.org/wp-content/uploads/2026/04/Senior-Citizens-Luncheon.png
END:VEVENT
BEGIN:VEVENT
DTSTART;TZID=UTC:20280710T120000
DTEND;TZID=UTC:20280710T130000
DTSTAMP:20260421T142506
CREATED:20260402T183159Z
LAST-MODIFIED:20260402T185616Z
UID:10000032-1846843200-1846846800@hartfordtownship.org
SUMMARY:Senior Citizen Luncheons
DESCRIPTION:Join us for a friendly gathering and delicious lunch every 2nd Monday of the month at Hartford Bible Church. The luncheon begins at NOON. Enjoy fellowship\, good food\, and community!
URL:https://hartfordtownship.org/event/senior-citizen-luncheons/2028-07-10/
LOCATION:Hartford Bible Church\, 65418 Red Arrow Hwy\, Hartford\, MI\, 49057
ATTACH;FMTTYPE=image/png:https://hartfordtownship.org/wp-content/uploads/2026/04/Senior-Citizens-Luncheon.png
END:VEVENT
BEGIN:VEVENT
DTSTART;TZID=UTC:20280814T120000
DTEND;TZID=UTC:20280814T130000
DTSTAMP:20260421T142506
CREATED:20260402T183159Z
LAST-MODIFIED:20260402T185616Z
UID:10000033-1849867200-1849870800@hartfordtownship.org
SUMMARY:Senior Citizen Luncheons
DESCRIPTION:Join us for a friendly gathering and delicious lunch every 2nd Monday of the month at Hartford Bible Church. The luncheon begins at NOON. Enjoy fellowship\, good food\, and community!
URL:https://hartfordtownship.org/event/senior-citizen-luncheons/2028-08-14/
LOCATION:Hartford Bible Church\, 65418 Red Arrow Hwy\, Hartford\, MI\, 49057
ATTACH;FMTTYPE=image/png:https://hartfordtownship.org/wp-content/uploads/2026/04/Senior-Citizens-Luncheon.png
END:VEVENT
BEGIN:VEVENT
DTSTART;TZID=UTC:20280911T120000
DTEND;TZID=UTC:20280911T130000
DTSTAMP:20260421T142506
CREATED:20260402T183159Z
LAST-MODIFIED:20260402T185616Z
UID:10000034-1852286400-1852290000@hartfordtownship.org
SUMMARY:Senior Citizen Luncheons
DESCRIPTION:Join us for a friendly gathering and delicious lunch every 2nd Monday of the month at Hartford Bible Church. The luncheon begins at NOON. Enjoy fellowship\, good food\, and community!
URL:https://hartfordtownship.org/event/senior-citizen-luncheons/2028-09-11/
LOCATION:Hartford Bible Church\, 65418 Red Arrow Hwy\, Hartford\, MI\, 49057
ATTACH;FMTTYPE=image/png:https://hartfordtownship.org/wp-content/uploads/2026/04/Senior-Citizens-Luncheon.png
END:VEVENT
BEGIN:VEVENT
DTSTART;TZID=UTC:20281009T120000
DTEND;TZID=UTC:20281009T130000
DTSTAMP:20260421T142506
CREATED:20260402T183159Z
LAST-MODIFIED:20260402T185616Z
UID:10000035-1854705600-1854709200@hartfordtownship.org
SUMMARY:Senior Citizen Luncheons
DESCRIPTION:Join us for a friendly gathering and delicious lunch every 2nd Monday of the month at Hartford Bible Church. The luncheon begins at NOON. Enjoy fellowship\, good food\, and community!
URL:https://hartfordtownship.org/event/senior-citizen-luncheons/2028-10-09/
LOCATION:Hartford Bible Church\, 65418 Red Arrow Hwy\, Hartford\, MI\, 49057
ATTACH;FMTTYPE=image/png:https://hartfordtownship.org/wp-content/uploads/2026/04/Senior-Citizens-Luncheon.png
END:VEVENT
END:VCALENDAR