BEGIN:VCALENDAR
VERSION:2.0
PRODID:-//Hartford Township - ECPv6.15.18//NONSGML v1.0//EN
CALSCALE:GREGORIAN
METHOD:PUBLISH
X-WR-CALNAME:Hartford Township
X-ORIGINAL-URL:https://hartfordtownship.org
X-WR-CALDESC:Events for Hartford Township
REFRESH-INTERVAL;VALUE=DURATION:PT1H
X-Robots-Tag:noindex
X-PUBLISHED-TTL:PT1H
BEGIN:VTIMEZONE
TZID:UTC
BEGIN:STANDARD
TZOFFSETFROM:+0000
TZOFFSETTO:+0000
TZNAME:UTC
DTSTART:20290101T000000
END:STANDARD
END:VTIMEZONE
BEGIN:VEVENT
DTSTART;TZID=UTC:20300513T120000
DTEND;TZID=UTC:20300513T130000
DTSTAMP:20260422T042925
CREATED:20260402T183159Z
LAST-MODIFIED:20260402T185616Z
UID:10000054-1904904000-1904907600@hartfordtownship.org
SUMMARY:Senior Citizen Luncheons
DESCRIPTION:Join us for a friendly gathering and delicious lunch every 2nd Monday of the month at Hartford Bible Church. The luncheon begins at NOON. Enjoy fellowship\, good food\, and community!
URL:https://hartfordtownship.org/event/senior-citizen-luncheons/2030-05-13/
LOCATION:Hartford Bible Church\, 65418 Red Arrow Hwy\, Hartford\, MI\, 49057
ATTACH;FMTTYPE=image/png:https://hartfordtownship.org/wp-content/uploads/2026/04/Senior-Citizens-Luncheon.png
END:VEVENT
BEGIN:VEVENT
DTSTART;TZID=UTC:20300610T120000
DTEND;TZID=UTC:20300610T130000
DTSTAMP:20260422T042925
CREATED:20260402T183159Z
LAST-MODIFIED:20260402T185616Z
UID:10000055-1907323200-1907326800@hartfordtownship.org
SUMMARY:Senior Citizen Luncheons
DESCRIPTION:Join us for a friendly gathering and delicious lunch every 2nd Monday of the month at Hartford Bible Church. The luncheon begins at NOON. Enjoy fellowship\, good food\, and community!
URL:https://hartfordtownship.org/event/senior-citizen-luncheons/2030-06-10/
LOCATION:Hartford Bible Church\, 65418 Red Arrow Hwy\, Hartford\, MI\, 49057
ATTACH;FMTTYPE=image/png:https://hartfordtownship.org/wp-content/uploads/2026/04/Senior-Citizens-Luncheon.png
END:VEVENT
BEGIN:VEVENT
DTSTART;TZID=UTC:20300708T120000
DTEND;TZID=UTC:20300708T130000
DTSTAMP:20260422T042925
CREATED:20260402T183159Z
LAST-MODIFIED:20260402T185616Z
UID:10000056-1909742400-1909746000@hartfordtownship.org
SUMMARY:Senior Citizen Luncheons
DESCRIPTION:Join us for a friendly gathering and delicious lunch every 2nd Monday of the month at Hartford Bible Church. The luncheon begins at NOON. Enjoy fellowship\, good food\, and community!
URL:https://hartfordtownship.org/event/senior-citizen-luncheons/2030-07-08/
LOCATION:Hartford Bible Church\, 65418 Red Arrow Hwy\, Hartford\, MI\, 49057
ATTACH;FMTTYPE=image/png:https://hartfordtownship.org/wp-content/uploads/2026/04/Senior-Citizens-Luncheon.png
END:VEVENT
BEGIN:VEVENT
DTSTART;TZID=UTC:20300812T120000
DTEND;TZID=UTC:20300812T130000
DTSTAMP:20260422T042925
CREATED:20260402T183159Z
LAST-MODIFIED:20260402T185616Z
UID:10000057-1912766400-1912770000@hartfordtownship.org
SUMMARY:Senior Citizen Luncheons
DESCRIPTION:Join us for a friendly gathering and delicious lunch every 2nd Monday of the month at Hartford Bible Church. The luncheon begins at NOON. Enjoy fellowship\, good food\, and community!
URL:https://hartfordtownship.org/event/senior-citizen-luncheons/2030-08-12/
LOCATION:Hartford Bible Church\, 65418 Red Arrow Hwy\, Hartford\, MI\, 49057
ATTACH;FMTTYPE=image/png:https://hartfordtownship.org/wp-content/uploads/2026/04/Senior-Citizens-Luncheon.png
END:VEVENT
BEGIN:VEVENT
DTSTART;TZID=UTC:20300909T120000
DTEND;TZID=UTC:20300909T130000
DTSTAMP:20260422T042925
CREATED:20260402T183159Z
LAST-MODIFIED:20260402T185616Z
UID:10000058-1915185600-1915189200@hartfordtownship.org
SUMMARY:Senior Citizen Luncheons
DESCRIPTION:Join us for a friendly gathering and delicious lunch every 2nd Monday of the month at Hartford Bible Church. The luncheon begins at NOON. Enjoy fellowship\, good food\, and community!
URL:https://hartfordtownship.org/event/senior-citizen-luncheons/2030-09-09/
LOCATION:Hartford Bible Church\, 65418 Red Arrow Hwy\, Hartford\, MI\, 49057
ATTACH;FMTTYPE=image/png:https://hartfordtownship.org/wp-content/uploads/2026/04/Senior-Citizens-Luncheon.png
END:VEVENT
BEGIN:VEVENT
DTSTART;TZID=UTC:20301014T120000
DTEND;TZID=UTC:20301014T130000
DTSTAMP:20260422T042925
CREATED:20260402T183159Z
LAST-MODIFIED:20260402T185616Z
UID:10000059-1918209600-1918213200@hartfordtownship.org
SUMMARY:Senior Citizen Luncheons
DESCRIPTION:Join us for a friendly gathering and delicious lunch every 2nd Monday of the month at Hartford Bible Church. The luncheon begins at NOON. Enjoy fellowship\, good food\, and community!
URL:https://hartfordtownship.org/event/senior-citizen-luncheons/2030-10-14/
LOCATION:Hartford Bible Church\, 65418 Red Arrow Hwy\, Hartford\, MI\, 49057
ATTACH;FMTTYPE=image/png:https://hartfordtownship.org/wp-content/uploads/2026/04/Senior-Citizens-Luncheon.png
END:VEVENT
BEGIN:VEVENT
DTSTART;TZID=UTC:20301111T120000
DTEND;TZID=UTC:20301111T130000
DTSTAMP:20260422T042925
CREATED:20260402T183159Z
LAST-MODIFIED:20260402T185616Z
UID:10000060-1920628800-1920632400@hartfordtownship.org
SUMMARY:Senior Citizen Luncheons
DESCRIPTION:Join us for a friendly gathering and delicious lunch every 2nd Monday of the month at Hartford Bible Church. The luncheon begins at NOON. Enjoy fellowship\, good food\, and community!
URL:https://hartfordtownship.org/event/senior-citizen-luncheons/2030-11-11/
LOCATION:Hartford Bible Church\, 65418 Red Arrow Hwy\, Hartford\, MI\, 49057
ATTACH;FMTTYPE=image/png:https://hartfordtownship.org/wp-content/uploads/2026/04/Senior-Citizens-Luncheon.png
END:VEVENT
BEGIN:VEVENT
DTSTART;TZID=UTC:20301209T120000
DTEND;TZID=UTC:20301209T130000
DTSTAMP:20260422T042925
CREATED:20260402T183159Z
LAST-MODIFIED:20260402T185616Z
UID:10000061-1923048000-1923051600@hartfordtownship.org
SUMMARY:Senior Citizen Luncheons
DESCRIPTION:Join us for a friendly gathering and delicious lunch every 2nd Monday of the month at Hartford Bible Church. The luncheon begins at NOON. Enjoy fellowship\, good food\, and community!
URL:https://hartfordtownship.org/event/senior-citizen-luncheons/2030-12-09/
LOCATION:Hartford Bible Church\, 65418 Red Arrow Hwy\, Hartford\, MI\, 49057
ATTACH;FMTTYPE=image/png:https://hartfordtownship.org/wp-content/uploads/2026/04/Senior-Citizens-Luncheon.png
END:VEVENT
BEGIN:VEVENT
DTSTART;TZID=UTC:20310113T120000
DTEND;TZID=UTC:20310113T130000
DTSTAMP:20260422T042925
CREATED:20260402T183159Z
LAST-MODIFIED:20260402T185616Z
UID:10000062-1926072000-1926075600@hartfordtownship.org
SUMMARY:Senior Citizen Luncheons
DESCRIPTION:Join us for a friendly gathering and delicious lunch every 2nd Monday of the month at Hartford Bible Church. The luncheon begins at NOON. Enjoy fellowship\, good food\, and community!
URL:https://hartfordtownship.org/event/senior-citizen-luncheons/2031-01-13/
LOCATION:Hartford Bible Church\, 65418 Red Arrow Hwy\, Hartford\, MI\, 49057
ATTACH;FMTTYPE=image/png:https://hartfordtownship.org/wp-content/uploads/2026/04/Senior-Citizens-Luncheon.png
END:VEVENT
BEGIN:VEVENT
DTSTART;TZID=UTC:20310210T120000
DTEND;TZID=UTC:20310210T130000
DTSTAMP:20260422T042925
CREATED:20260402T183159Z
LAST-MODIFIED:20260402T185616Z
UID:10000063-1928491200-1928494800@hartfordtownship.org
SUMMARY:Senior Citizen Luncheons
DESCRIPTION:Join us for a friendly gathering and delicious lunch every 2nd Monday of the month at Hartford Bible Church. The luncheon begins at NOON. Enjoy fellowship\, good food\, and community!
URL:https://hartfordtownship.org/event/senior-citizen-luncheons/2031-02-10/
LOCATION:Hartford Bible Church\, 65418 Red Arrow Hwy\, Hartford\, MI\, 49057
ATTACH;FMTTYPE=image/png:https://hartfordtownship.org/wp-content/uploads/2026/04/Senior-Citizens-Luncheon.png
END:VEVENT
BEGIN:VEVENT
DTSTART;TZID=UTC:20310310T120000
DTEND;TZID=UTC:20310310T130000
DTSTAMP:20260422T042925
CREATED:20260402T183159Z
LAST-MODIFIED:20260402T185616Z
UID:10000064-1930910400-1930914000@hartfordtownship.org
SUMMARY:Senior Citizen Luncheons
DESCRIPTION:Join us for a friendly gathering and delicious lunch every 2nd Monday of the month at Hartford Bible Church. The luncheon begins at NOON. Enjoy fellowship\, good food\, and community!
URL:https://hartfordtownship.org/event/senior-citizen-luncheons/2031-03-10/
LOCATION:Hartford Bible Church\, 65418 Red Arrow Hwy\, Hartford\, MI\, 49057
ATTACH;FMTTYPE=image/png:https://hartfordtownship.org/wp-content/uploads/2026/04/Senior-Citizens-Luncheon.png
END:VEVENT
END:VCALENDAR